BEGIN:VCALENDAR
VERSION:2.0
PRODID:-//Themhallerne Events - ECPv6.15.5//NONSGML v1.0//EN
CALSCALE:GREGORIAN
METHOD:PUBLISH
X-ORIGINAL-URL:https://eventsihallerne.dk
X-WR-CALDESC:Begivenheder for Themhallerne Events
REFRESH-INTERVAL;VALUE=DURATION:PT1H
X-Robots-Tag:noindex
X-PUBLISHED-TTL:PT1H
BEGIN:VTIMEZONE
TZID:Europe/Copenhagen
BEGIN:DAYLIGHT
TZOFFSETFROM:+0100
TZOFFSETTO:+0200
TZNAME:CEST
DTSTART:20230326T010000
END:DAYLIGHT
BEGIN:STANDARD
TZOFFSETFROM:+0200
TZOFFSETTO:+0100
TZNAME:CET
DTSTART:20231029T010000
END:STANDARD
END:VTIMEZONE
BEGIN:VEVENT
DTSTART;TZID=Europe/Copenhagen:20230106T191500
DTEND;TZID=Europe/Copenhagen:20230106T220000
DTSTAMP:20260419T151025
CREATED:20221204T081913Z
LAST-MODIFIED:20250911T075110Z
UID:10000048-1673032500-1673042400@eventsihallerne.dk
SUMMARY:Kuraften saunagus & wellness
DESCRIPTION:Fredags Gus \nForkæl dig selv og kom og oplev den dejlig fornemmelse når gusmesteren hælder vand med 100 % æteriske olier på de glohede sten og skaber velduftende dampe\, som mesteren med et håndklæde vifter op i\, så dampene omslutter dig. Det er velvære for alle sanser! På denne aften er du garanteret 3. saunagus og bestilles der tapas eller salat kan dette nydes allerede fra kl. 18.30.
URL:https://eventsihallerne.dk/event/kuraften-saunagus-wellness-5/
LOCATION:Themhallerne\, Frisholmvej 13\, Them\, 8653\, Danmark
ORGANIZER;CN="Wellness":MAILTO:peter@themhallerne.dk
END:VEVENT
END:VCALENDAR